BEGIN:VCALENDAR
VERSION:2.0
PRODID:-//wp-events-plugin.com//7.2.3.1//EN
TZID:Europe/Amsterdam
X-WR-TIMEZONE:Europe/Amsterdam
BEGIN:VEVENT
UID:32@lervo.nl
DTSTART;TZID=Europe/Amsterdam:20250516T153000
DTEND;TZID=Europe/Amsterdam:20250516T170000
DTSTAMP:20250502T142532Z
URL:https://lervo.nl/events/webinar-lesmateriaal-ontwikkelen-16-mei/
SUMMARY:VDLG-webinar: lesmateriaal ontwikkelen op 16 mei
DESCRIPTION:Op vrijdag 16 mei organiseren de VDLG voor haar leden van 15.30
  tot 17.00 uur het derde webinar van dit schooljaar. Deze keer gaat het ov
 er lesmateriaal ontwikkelen. In het webinar is er ruimte om je vragen hier
  omtrent te stellen en om lesmateriaal te presenteren aan andere deelnemer
 s. Ook werkvormen zijn zeer welkom. Op het aanmeldingsformulier kun je aan
 geven of je een vraag wilt voorleggen of materiaal wilt delen. In de voorb
 ereiding van het webinar nemen we contact met je op over hoe we je vraag o
 f jouw lesmateriaal in het webinar aan de orde kunnen stellen.\n\nWe nodig
 en je van harte uit om deel te nemen aan deze uitwisseling. Meld je hier a
 an: Webinar 3: lesmateriaal ontwikkelen\n\nWil je in de voorbereiding en/
 of uitvoering bijdragen\, laat het weten op het formulier! We hopen velen 
 van jullie te mogen ontmoeten op 16 mei in een inspirerende sessie vol ide
 eÃ«n\, handvatten en concreet materiaal. Je ontvangt begin mei via e-mai
 l een link voor het webinar.\n\nEn als deelnemer aan de studiedag in maart
  is dit webinar de kans om het gesprek voort te zetten over ontwerpideeÃ
 «n van die dag en het gebruikmaken van het vakdidactisch inspiratieboek.\
 n\nEerder organiseerden we een webinar over het rijke\, gratis lesmateriaa
 l van www.omstredenzaken.nl (oktober) en de spiritualiteit van de leraar m
 .m.v. Bert Roebben (januari).
ATTACH;FMTTYPE=image/jpeg:https://lervo.nl/wp-content/uploads/2022/11/coli
 bri-image-151.png
CATEGORIES:Docentenbijeenkomst
END:VEVENT
BEGIN:VTIMEZONE
TZID:Europe/Amsterdam
X-LIC-LOCATION:Europe/Amsterdam
BEGIN:DAYLIGHT
DTSTART:20250330T030000
TZOFFSETFROM:+0100
TZOFFSETTO:+0200
TZNAME:CEST
END:DAYLIGHT
END:VTIMEZONE
END:VCALENDAR